Package: AlphaMissenseR Version: 1.0.2 Command: /home/biocbuild/bbs-3.19-bioc/R/bin/R CMD check --install=check:AlphaMissenseR.install-out.txt --library=/home/biocbuild/bbs-3.19-bioc/R/site-library --timings AlphaMissenseR_1.0.2.tar.gz StartedAt: 2024-10-16 21:34:47 -0400 (Wed, 16 Oct 2024) EndedAt: 2024-10-16 21:37:07 -0400 (Wed, 16 Oct 2024) EllapsedTime: 140.3 seconds RetCode: 0 Status: OK CheckDir: AlphaMissenseR.Rcheck Warnings: 0