Package: AlphaMissenseR Version: 1.0.2 Command: /Library/Frameworks/R.framework/Resources/bin/R CMD INSTALL AlphaMissenseR StartedAt: 2024-06-09 15:12:50 -0400 (Sun, 09 Jun 2024) EndedAt: 2024-06-09 15:13:09 -0400 (Sun, 09 Jun 2024) EllapsedTime: 19.2 seconds RetCode: 0 Status: OK