Package: AlphaMissenseR Version: 1.0.2 Command: /Library/Frameworks/R.framework/Resources/bin/R CMD build --keep-empty-dirs --no-resave-data AlphaMissenseR StartedAt: 2024-06-09 15:49:44 -0400 (Sun, 09 Jun 2024) EndedAt: 2024-06-09 15:50:54 -0400 (Sun, 09 Jun 2024) EllapsedTime: 70.0 seconds RetCode: 0 Status: OK PackageFile: AlphaMissenseR_1.0.2.tar.gz PackageFileSize: 411.7 KiB