Package: AlphaMissenseR Version: 1.0.2 Command: rm -rf AlphaMissenseR.buildbin-libdir && mkdir AlphaMissenseR.buildbin-libdir && /Users/biocbuild/BBS/utils/build-universal.sh AlphaMissenseR_1.0.2.tar.gz /Library/Frameworks/R.framework/Resources/bin/R AlphaMissenseR.buildbin-libdir StartedAt: 2024-06-10 00:06:22 -0400 (Mon, 10 Jun 2024) EndedAt: 2024-06-10 00:06:35 -0400 (Mon, 10 Jun 2024) EllapsedTime: 12.4 seconds RetCode: 0 Status: OK PackageFile: AlphaMissenseR_1.0.2.tgz PackageFileSize: 570 KiB