Package: AlphaMissenseR Version: 1.0.2 Command: /Library/Frameworks/R.framework/Resources/bin/R CMD build --keep-empty-dirs --no-resave-data AlphaMissenseR StartedAt: 2024-10-16 19:15:44 -0400 (Wed, 16 Oct 2024) EndedAt: 2024-10-16 19:16:55 -0400 (Wed, 16 Oct 2024) EllapsedTime: 70.9 seconds RetCode: 0 Status: OK PackageFile: AlphaMissenseR_1.0.2.tar.gz PackageFileSize: 413.2 KiB