Package: AlphaMissenseR Version: 1.0.2 Maintainer: Martin Morgan MaintainerEmail: mtmorgan.xyz at gmail.com git_url: https://git.bioconductor.org/packages/AlphaMissenseR git_branch: RELEASE_3_19 git_last_commit: 2ca6e01 git_last_commit_date: 2024-05-22 11:38:16 -0400 (Wed, 22 May 2024)