Package: AllelicImbalance Version: 1.42.0 Command: E:\biocbuild\bbs-3.19-bioc\R\bin\R.exe CMD check --no-multiarch --install=check:AllelicImbalance.install-out.txt --library=E:\biocbuild\bbs-3.19-bioc\R\library --no-vignettes --timings AllelicImbalance_1.42.0.tar.gz StartedAt: 2024-10-16 22:46:35 -0400 (Wed, 16 Oct 2024) EndedAt: 2024-10-16 22:55:50 -0400 (Wed, 16 Oct 2024) EllapsedTime: 555.6 seconds RetCode: 0 Status: OK CheckDir: AllelicImbalance.Rcheck Warnings: 0