Package: AllelicImbalance Version: 1.42.0 Command: chmod a+r AllelicImbalance -R && E:\biocbuild\bbs-3.19-bioc\R\bin\R.exe CMD build --keep-empty-dirs --no-resave-data AllelicImbalance StartedAt: 2024-10-16 17:31:54 -0400 (Wed, 16 Oct 2024) EndedAt: 2024-10-16 17:36:17 -0400 (Wed, 16 Oct 2024) EllapsedTime: 262.8 seconds RetCode: 0 Status: OK PackageFile: AllelicImbalance_1.42.0.tar.gz PackageFileSize: 767.3 KiB