Package: AllelicImbalance Version: 1.42.0 Command: rm -rf AllelicImbalance.buildbin-libdir && mkdir AllelicImbalance.buildbin-libdir && E:\biocbuild\bbs-3.19-bioc\R\bin\R.exe CMD INSTALL --build --library=AllelicImbalance.buildbin-libdir AllelicImbalance_1.42.0.tar.gz StartedAt: 2024-10-17 07:19:11 -0400 (Thu, 17 Oct 2024) EndedAt: 2024-10-17 07:22:45 -0400 (Thu, 17 Oct 2024) EllapsedTime: 213.3 seconds RetCode: 0 Status: OK PackageFile: AllelicImbalance_1.42.0.zip PackageFileSize: 1.235 MiB