Package: AllelicImbalance Version: 1.42.0 Command: rm -rf AllelicImbalance.buildbin-libdir && mkdir AllelicImbalance.buildbin-libdir && F:\biocbuild\bbs-3.19-bioc\R\bin\R.exe CMD INSTALL --build --library=AllelicImbalance.buildbin-libdir AllelicImbalance_1.42.0.tar.gz StartedAt: 2024-06-27 07:49:01 -0400 (Thu, 27 Jun 2024) EndedAt: 2024-06-27 07:50:26 -0400 (Thu, 27 Jun 2024) EllapsedTime: 84.8 seconds RetCode: 0 Status: OK PackageFile: AllelicImbalance_1.42.0.zip PackageFileSize: 1.233 MiB