Package: AllelicImbalance Version: 1.42.0 Command: rm -rf AllelicImbalance.buildbin-libdir && mkdir AllelicImbalance.buildbin-libdir && /Users/biocbuild/BBS/utils/build-universal.sh AllelicImbalance_1.42.0.tar.gz /Library/Frameworks/R.framework/Resources/bin/R AllelicImbalance.buildbin-libdir StartedAt: 2024-10-17 15:36:57 -0400 (Thu, 17 Oct 2024) EndedAt: 2024-10-17 15:39:10 -0400 (Thu, 17 Oct 2024) EllapsedTime: 132.2 seconds RetCode: 0 Status: OK PackageFile: AllelicImbalance_1.42.0.tgz PackageFileSize: 1.227 MiB