Package: AllelicImbalance Version: 1.42.0 Command: /Library/Frameworks/R.framework/Resources/bin/R CMD check --install=check:AllelicImbalance.install-out.txt --library=/Library/Frameworks/R.framework/Resources/library --no-vignettes --timings AllelicImbalance_1.42.0.tar.gz StartedAt: 2024-06-09 18:42:35 -0400 (Sun, 09 Jun 2024) EndedAt: 2024-06-09 18:50:47 -0400 (Sun, 09 Jun 2024) EllapsedTime: 491.9 seconds RetCode: 0 Status: OK CheckDir: AllelicImbalance.Rcheck Warnings: 0