Package: AllelicImbalance Version: 1.42.0 Command: /home/biocbuild/R/R-beta-2024-04-15_r86425/bin/R CMD check --install=check:AllelicImbalance.install-out.txt --library=/home/biocbuild/R/R-beta-2024-04-15_r86425/site-library --no-vignettes --timings AllelicImbalance_1.42.0.tar.gz StartedAt: 2024-05-09 04:41:48 -0000 (Thu, 09 May 2024) EndedAt: 2024-05-09 04:51:34 -0000 (Thu, 09 May 2024) EllapsedTime: 586.2 seconds RetCode: 0 Status: OK CheckDir: AllelicImbalance.Rcheck Warnings: 0