Package: AllelicImbalance Version: 1.42.0 Command: /Library/Frameworks/R.framework/Resources/bin/R CMD check --install=check:AllelicImbalance.install-out.txt --library=/Library/Frameworks/R.framework/Resources/library --no-vignettes --timings AllelicImbalance_1.42.0.tar.gz StartedAt: 2024-06-10 07:10:32 -0400 (Mon, 10 Jun 2024) EndedAt: 2024-06-10 07:22:52 -0400 (Mon, 10 Jun 2024) EllapsedTime: 739.8 seconds RetCode: 0 Status: OK CheckDir: AllelicImbalance.Rcheck Warnings: 0