Package: AllelicImbalance Version: 1.42.0 Command: rm -rf AllelicImbalance.buildbin-libdir && mkdir AllelicImbalance.buildbin-libdir && /Users/biocbuild/BBS/utils/build-universal.sh AllelicImbalance_1.42.0.tar.gz /Library/Frameworks/R.framework/Resources/bin/R AllelicImbalance.buildbin-libdir StartedAt: 2024-06-11 10:06:21 -0400 (Tue, 11 Jun 2024) EndedAt: 2024-06-11 10:08:09 -0400 (Tue, 11 Jun 2024) EllapsedTime: 108.3 seconds RetCode: 0 Status: OK PackageFile: AllelicImbalance_1.42.0.tgz PackageFileSize: 1.226 MiB