Package: AllelicImbalance Version: 1.42.0 Command: /Library/Frameworks/R.framework/Resources/bin/R CMD build --keep-empty-dirs --no-resave-data AllelicImbalance StartedAt: 2024-10-16 19:15:03 -0400 (Wed, 16 Oct 2024) EndedAt: 2024-10-16 19:18:05 -0400 (Wed, 16 Oct 2024) EllapsedTime: 182.1 seconds RetCode: 0 Status: OK PackageFile: AllelicImbalance_1.42.0.tar.gz PackageFileSize: 773 KiB