Package: AgiMicroRna Version: 2.54.0 Command: rm -rf AgiMicroRna.buildbin-libdir && mkdir AgiMicroRna.buildbin-libdir && E:\biocbuild\bbs-3.19-bioc\R\bin\R.exe CMD INSTALL --build --library=AgiMicroRna.buildbin-libdir AgiMicroRna_2.54.0.tar.gz StartedAt: 2024-10-17 07:18:33 -0400 (Thu, 17 Oct 2024) EndedAt: 2024-10-17 07:19:56 -0400 (Thu, 17 Oct 2024) EllapsedTime: 83.3 seconds RetCode: 0 Status: OK PackageFile: AgiMicroRna_2.54.0.zip PackageFileSize: 3.419 MiB