Package: AgiMicroRna Version: 2.54.0 Command: /home/biocbuild/R/R-beta-2024-04-15_r86425/bin/R CMD check --install=check:AgiMicroRna.install-out.txt --library=/home/biocbuild/R/R-beta-2024-04-15_r86425/site-library --no-vignettes --timings AgiMicroRna_2.54.0.tar.gz StartedAt: 2024-05-09 04:38:57 -0000 (Thu, 09 May 2024) EndedAt: 2024-05-09 04:47:02 -0000 (Thu, 09 May 2024) EllapsedTime: 485.0 seconds RetCode: 0 Status: WARNINGS CheckDir: AgiMicroRna.Rcheck Warnings: 1