Package: AgiMicroRna Version: 2.54.0 Command: /Library/Frameworks/R.framework/Resources/bin/R CMD INSTALL AgiMicroRna StartedAt: 2024-06-09 17:13:21 -0400 (Sun, 09 Jun 2024) EndedAt: 2024-06-09 17:14:57 -0400 (Sun, 09 Jun 2024) EllapsedTime: 95.7 seconds RetCode: 0 Status: OK