Package: AgiMicroRna Version: 2.54.0 Command: /Library/Frameworks/R.framework/Resources/bin/R CMD build --keep-empty-dirs --no-resave-data AgiMicroRna StartedAt: 2024-06-09 17:55:05 -0400 (Sun, 09 Jun 2024) EndedAt: 2024-06-09 17:57:41 -0400 (Sun, 09 Jun 2024) EllapsedTime: 155.3 seconds RetCode: 0 Status: OK PackageFile: AgiMicroRna_2.54.0.tar.gz PackageFileSize: 3.066 MiB