Package: AgiMicroRna Version: 2.54.0 Command: rm -rf AgiMicroRna.buildbin-libdir && mkdir AgiMicroRna.buildbin-libdir && /Users/biocbuild/BBS/utils/build-universal.sh AgiMicroRna_2.54.0.tar.gz /Library/Frameworks/R.framework/Resources/bin/R AgiMicroRna.buildbin-libdir StartedAt: 2024-10-18 17:13:02 -0400 (Fri, 18 Oct 2024) EndedAt: 2024-10-18 17:14:36 -0400 (Fri, 18 Oct 2024) EllapsedTime: 94.0 seconds RetCode: 0 Status: OK PackageFile: AgiMicroRna_2.54.0.tgz PackageFileSize: 3.517 MiB