Package: AffyRNADegradation Version: 1.50.0 Command: E:\biocbuild\bbs-3.19-bioc\R\bin\R.exe CMD check --no-multiarch --install=check:AffyRNADegradation.install-out.txt --library=E:\biocbuild\bbs-3.19-bioc\R\library --no-vignettes --timings AffyRNADegradation_1.50.0.tar.gz StartedAt: 2024-10-16 22:43:47 -0400 (Wed, 16 Oct 2024) EndedAt: 2024-10-16 22:45:21 -0400 (Wed, 16 Oct 2024) EllapsedTime: 93.2 seconds RetCode: 0 Status: OK CheckDir: AffyRNADegradation.Rcheck Warnings: 0