Package: AffyRNADegradation Version: 1.50.0 Command: rm -rf AffyRNADegradation.buildbin-libdir && mkdir AffyRNADegradation.buildbin-libdir && E:\biocbuild\bbs-3.19-bioc\R\bin\R.exe CMD INSTALL --build --library=AffyRNADegradation.buildbin-libdir AffyRNADegradation_1.50.0.tar.gz StartedAt: 2024-10-17 07:18:27 -0400 (Thu, 17 Oct 2024) EndedAt: 2024-10-17 07:18:50 -0400 (Thu, 17 Oct 2024) EllapsedTime: 23.3 seconds RetCode: 0 Status: OK PackageFile: AffyRNADegradation_1.50.0.zip PackageFileSize: 315.5 KiB