Package: AffyRNADegradation Version: 1.50.0 Command: chmod a+r AffyRNADegradation -R && F:\biocbuild\bbs-3.19-bioc\R\bin\R.exe CMD build --keep-empty-dirs --no-resave-data AffyRNADegradation StartedAt: 2024-06-26 17:01:35 -0400 (Wed, 26 Jun 2024) EndedAt: 2024-06-26 17:03:26 -0400 (Wed, 26 Jun 2024) EllapsedTime: 110.7 seconds RetCode: 0 Status: OK PackageFile: AffyRNADegradation_1.50.0.tar.gz PackageFileSize: 274.2 KiB