Package: AffyRNADegradation Version: 1.50.0 Command: rm -rf AffyRNADegradation.buildbin-libdir && mkdir AffyRNADegradation.buildbin-libdir && F:\biocbuild\bbs-3.19-bioc\R\bin\R.exe CMD INSTALL --build --library=AffyRNADegradation.buildbin-libdir AffyRNADegradation_1.50.0.tar.gz StartedAt: 2024-06-27 07:48:21 -0400 (Thu, 27 Jun 2024) EndedAt: 2024-06-27 07:48:40 -0400 (Thu, 27 Jun 2024) EllapsedTime: 18.5 seconds RetCode: 0 Status: OK PackageFile: AffyRNADegradation_1.50.0.zip PackageFileSize: 314.9 KiB