Package: AffyRNADegradation Version: 1.50.0 Command: /home/biocbuild/bbs-3.19-bioc/R/bin/R CMD check --install=check:AffyRNADegradation.install-out.txt --library=/home/biocbuild/bbs-3.19-bioc/R/site-library --timings AffyRNADegradation_1.50.0.tar.gz StartedAt: 2024-10-16 21:31:34 -0400 (Wed, 16 Oct 2024) EndedAt: 2024-10-16 21:34:26 -0400 (Wed, 16 Oct 2024) EllapsedTime: 172.5 seconds RetCode: 0 Status: OK CheckDir: AffyRNADegradation.Rcheck Warnings: 0