Package: AffyRNADegradation Version: 1.50.0 Command: /home/biocbuild/bbs-3.19-bioc/R/bin/R CMD build --keep-empty-dirs --no-resave-data AffyRNADegradation StartedAt: 2024-10-16 16:52:18 -0400 (Wed, 16 Oct 2024) EndedAt: 2024-10-16 16:53:51 -0400 (Wed, 16 Oct 2024) EllapsedTime: 93.2 seconds RetCode: 0 Status: OK PackageFile: AffyRNADegradation_1.50.0.tar.gz PackageFileSize: 273.2 KiB