Package: AffyRNADegradation Version: 1.50.0 Command: /Library/Frameworks/R.framework/Resources/bin/R CMD check --install=check:AffyRNADegradation.install-out.txt --library=/Library/Frameworks/R.framework/Resources/library --no-vignettes --timings AffyRNADegradation_1.50.0.tar.gz StartedAt: 2024-10-17 00:52:25 -0400 (Thu, 17 Oct 2024) EndedAt: 2024-10-17 00:55:19 -0400 (Thu, 17 Oct 2024) EllapsedTime: 173.7 seconds RetCode: 0 Status: OK CheckDir: AffyRNADegradation.Rcheck Warnings: 0