Package: AffyRNADegradation Version: 1.50.0 Command: /Library/Frameworks/R.framework/Resources/bin/R CMD build --keep-empty-dirs --no-resave-data AffyRNADegradation StartedAt: 2024-10-16 16:59:06 -0400 (Wed, 16 Oct 2024) EndedAt: 2024-10-16 17:01:48 -0400 (Wed, 16 Oct 2024) EllapsedTime: 162.0 seconds RetCode: 0 Status: OK PackageFile: AffyRNADegradation_1.50.0.tar.gz PackageFileSize: 365.6 KiB