Package: AffyRNADegradation Version: 1.50.0 Command: /Library/Frameworks/R.framework/Resources/bin/R CMD build --keep-empty-dirs --no-resave-data AffyRNADegradation StartedAt: 2024-06-09 15:48:35 -0400 (Sun, 09 Jun 2024) EndedAt: 2024-06-09 15:50:06 -0400 (Sun, 09 Jun 2024) EllapsedTime: 91.2 seconds RetCode: 0 Status: OK PackageFile: AffyRNADegradation_1.50.0.tar.gz PackageFileSize: 365.4 KiB