Package: AffyRNADegradation Version: 1.50.0 Command: rm -rf AffyRNADegradation.buildbin-libdir && mkdir AffyRNADegradation.buildbin-libdir && /Users/biocbuild/BBS/utils/build-universal.sh AffyRNADegradation_1.50.0.tar.gz /Library/Frameworks/R.framework/Resources/bin/R AffyRNADegradation.buildbin-libdir StartedAt: 2024-06-11 10:03:54 -0400 (Tue, 11 Jun 2024) EndedAt: 2024-06-11 10:04:03 -0400 (Tue, 11 Jun 2024) EllapsedTime: 8.8 seconds RetCode: 0 Status: OK PackageFile: AffyRNADegradation_1.50.0.tgz PackageFileSize: 400.8 KiB