Package: AffyRNADegradation Version: 1.50.0 Command: /Library/Frameworks/R.framework/Resources/bin/R CMD build --keep-empty-dirs --no-resave-data AffyRNADegradation StartedAt: 2024-10-16 19:10:24 -0400 (Wed, 16 Oct 2024) EndedAt: 2024-10-16 19:12:58 -0400 (Wed, 16 Oct 2024) EllapsedTime: 154.6 seconds RetCode: 0 Status: OK PackageFile: AffyRNADegradation_1.50.0.tar.gz PackageFileSize: 365.6 KiB