Package: AffyRNADegradation Version: 1.50.0 Command: rm -rf AffyRNADegradation.buildbin-libdir && mkdir AffyRNADegradation.buildbin-libdir && /Users/biocbuild/BBS/utils/build-universal.sh AffyRNADegradation_1.50.0.tar.gz /Library/Frameworks/R.framework/Resources/bin/R AffyRNADegradation.buildbin-libdir StartedAt: 2024-10-18 17:12:34 -0400 (Fri, 18 Oct 2024) EndedAt: 2024-10-18 17:12:41 -0400 (Fri, 18 Oct 2024) EllapsedTime: 6.9 seconds RetCode: 0 Status: OK PackageFile: AffyRNADegradation_1.50.0.tgz PackageFileSize: 401.1 KiB