Package: AffiXcan Version: 1.22.0 Command: E:\biocbuild\bbs-3.19-bioc\R\bin\R.exe CMD INSTALL AffiXcan StartedAt: 2024-10-16 16:23:11 -0400 (Wed, 16 Oct 2024) EndedAt: 2024-10-16 16:23:37 -0400 (Wed, 16 Oct 2024) EllapsedTime: 26.0 seconds RetCode: 0 Status: OK