Package: AffiXcan Version: 1.22.0 Command: chmod a+r AffiXcan -R && F:\biocbuild\bbs-3.19-bioc\R\bin\R.exe CMD build --keep-empty-dirs --no-resave-data AffiXcan StartedAt: 2024-06-26 17:01:00 -0400 (Wed, 26 Jun 2024) EndedAt: 2024-06-26 17:07:25 -0400 (Wed, 26 Jun 2024) EllapsedTime: 385.2 seconds RetCode: 0 Status: OK PackageFile: AffiXcan_1.22.0.tar.gz PackageFileSize: 2.373 MiB