Package: AffiXcan Version: 1.22.0 Command: rm -rf AffiXcan.buildbin-libdir && mkdir AffiXcan.buildbin-libdir && /Users/biocbuild/BBS/utils/build-universal.sh AffiXcan_1.22.0.tar.gz /Library/Frameworks/R.framework/Resources/bin/R AffiXcan.buildbin-libdir StartedAt: 2024-06-10 00:05:56 -0400 (Mon, 10 Jun 2024) EndedAt: 2024-06-10 00:06:30 -0400 (Mon, 10 Jun 2024) EllapsedTime: 34.0 seconds RetCode: 0 Status: OK PackageFile: AffiXcan_1.22.0.tgz PackageFileSize: 2.032 MiB