Package: AffiXcan Version: 1.22.0 Command: /Library/Frameworks/R.framework/Resources/bin/R CMD INSTALL AffiXcan StartedAt: 2024-06-09 15:39:12 -0400 (Sun, 09 Jun 2024) EndedAt: 2024-06-09 15:39:45 -0400 (Sun, 09 Jun 2024) EllapsedTime: 32.8 seconds RetCode: 0 Status: OK