Package: AffiXcan Version: 1.22.0 Command: rm -rf AffiXcan.buildbin-libdir && mkdir AffiXcan.buildbin-libdir && /Users/biocbuild/BBS/utils/build-universal.sh AffiXcan_1.22.0.tar.gz /Library/Frameworks/R.framework/Resources/bin/R AffiXcan.buildbin-libdir StartedAt: 2024-06-11 10:03:14 -0400 (Tue, 11 Jun 2024) EndedAt: 2024-06-11 10:03:55 -0400 (Tue, 11 Jun 2024) EllapsedTime: 41.0 seconds RetCode: 0 Status: OK PackageFile: AffiXcan_1.22.0.tgz PackageFileSize: 2.032 MiB