Package: AffiXcan Version: 1.22.0 Command: /Library/Frameworks/R.framework/Resources/bin/R CMD check --install=check:AffiXcan.install-out.txt --library=/Library/Frameworks/R.framework/Resources/library --no-vignettes --timings AffiXcan_1.22.0.tar.gz StartedAt: 2024-10-17 11:50:21 -0400 (Thu, 17 Oct 2024) EndedAt: 2024-10-17 11:53:36 -0400 (Thu, 17 Oct 2024) EllapsedTime: 194.5 seconds RetCode: 0 Status: OK CheckDir: AffiXcan.Rcheck Warnings: 0