Package: AWFisher Version: 1.18.0 Command: F:\biocbuild\bbs-3.19-bioc\R\bin\R.exe CMD check --no-multiarch --install=check:AWFisher.install-out.txt --library=F:\biocbuild\bbs-3.19-bioc\R\library --no-vignettes --timings AWFisher_1.18.0.tar.gz StartedAt: 2024-06-26 23:03:31 -0400 (Wed, 26 Jun 2024) EndedAt: 2024-06-26 23:04:24 -0400 (Wed, 26 Jun 2024) EllapsedTime: 52.8 seconds RetCode: 0 Status: OK CheckDir: AWFisher.Rcheck Warnings: 0