Package: AWFisher Version: 1.18.0 Command: chmod a+r AWFisher -R && F:\biocbuild\bbs-3.19-bioc\R\bin\R.exe CMD build --keep-empty-dirs --no-resave-data AWFisher StartedAt: 2024-06-26 17:11:28 -0400 (Wed, 26 Jun 2024) EndedAt: 2024-06-26 17:12:02 -0400 (Wed, 26 Jun 2024) EllapsedTime: 33.4 seconds RetCode: 0 Status: OK PackageFile: AWFisher_1.18.0.tar.gz PackageFileSize: 1.341 MiB