Package: AWFisher Version: 1.18.0 Command: /Library/Frameworks/R.framework/Resources/bin/R CMD INSTALL AWFisher StartedAt: 2024-10-16 15:13:46 -0400 (Wed, 16 Oct 2024) EndedAt: 2024-10-16 15:13:55 -0400 (Wed, 16 Oct 2024) EllapsedTime: 9.3 seconds RetCode: 0 Status: OK