Package: AWFisher Version: 1.18.0 Command: /Library/Frameworks/R.framework/Resources/bin/R CMD check --install=check:AWFisher.install-out.txt --library=/Library/Frameworks/R.framework/Resources/library --no-vignettes --timings AWFisher_1.18.0.tar.gz StartedAt: 2024-10-17 01:14:32 -0400 (Thu, 17 Oct 2024) EndedAt: 2024-10-17 01:15:54 -0400 (Thu, 17 Oct 2024) EllapsedTime: 82.2 seconds RetCode: 0 Status: OK CheckDir: AWFisher.Rcheck Warnings: 0