Package: AWFisher Version: 1.18.0 Command: /Library/Frameworks/R.framework/Resources/bin/R CMD INSTALL AWFisher StartedAt: 2024-06-09 15:08:00 -0400 (Sun, 09 Jun 2024) EndedAt: 2024-06-09 15:08:15 -0400 (Sun, 09 Jun 2024) EllapsedTime: 14.8 seconds RetCode: 0 Status: OK