Package: AWFisher Version: 1.18.0 Command: /Library/Frameworks/R.framework/Resources/bin/R CMD INSTALL AWFisher StartedAt: 2024-06-09 15:10:07 -0400 (Sun, 09 Jun 2024) EndedAt: 2024-06-09 15:10:14 -0400 (Sun, 09 Jun 2024) EllapsedTime: 6.9 seconds RetCode: 0 Status: OK