Package: AWFisher Version: 1.18.0 Command: /Library/Frameworks/R.framework/Resources/bin/R CMD build --keep-empty-dirs --no-resave-data AWFisher StartedAt: 2024-10-16 19:40:41 -0400 (Wed, 16 Oct 2024) EndedAt: 2024-10-16 19:41:17 -0400 (Wed, 16 Oct 2024) EllapsedTime: 35.4 seconds RetCode: 0 Status: OK PackageFile: AWFisher_1.18.0.tar.gz PackageFileSize: 1.399 MiB