Package: AWFisher Version: 1.18.0 Command: rm -rf AWFisher.buildbin-libdir && mkdir AWFisher.buildbin-libdir && /Users/biocbuild/BBS/utils/build-universal.sh AWFisher_1.18.0.tar.gz /Library/Frameworks/R.framework/Resources/bin/R AWFisher.buildbin-libdir StartedAt: 2024-10-18 17:21:06 -0400 (Fri, 18 Oct 2024) EndedAt: 2024-10-18 17:21:15 -0400 (Fri, 18 Oct 2024) EllapsedTime: 9.1 seconds RetCode: 0 Status: OK PackageFile: AWFisher_1.18.0.tgz PackageFileSize: 1.437 MiB