Package: AUCell Version: 1.26.0 Command: E:\biocbuild\bbs-3.19-bioc\R\bin\R.exe CMD INSTALL AUCell StartedAt: 2024-10-16 16:56:28 -0400 (Wed, 16 Oct 2024) EndedAt: 2024-10-16 16:57:17 -0400 (Wed, 16 Oct 2024) EllapsedTime: 49.0 seconds RetCode: 0 Status: OK