Package: AUCell Version: 1.26.0 Command: chmod a+r AUCell -R && F:\biocbuild\bbs-3.19-bioc\R\bin\R.exe CMD build --keep-empty-dirs --no-resave-data AUCell StartedAt: 2024-06-26 17:10:54 -0400 (Wed, 26 Jun 2024) EndedAt: 2024-06-26 17:12:57 -0400 (Wed, 26 Jun 2024) EllapsedTime: 122.6 seconds RetCode: 0 Status: OK PackageFile: AUCell_1.26.0.tar.gz PackageFileSize: 959 KiB