Package: AUCell Version: 1.26.0 Command: rm -rf AUCell.buildbin-libdir && mkdir AUCell.buildbin-libdir && F:\biocbuild\bbs-3.19-bioc\R\bin\R.exe CMD INSTALL --build --library=AUCell.buildbin-libdir AUCell_1.26.0.tar.gz StartedAt: 2024-06-27 07:50:45 -0400 (Thu, 27 Jun 2024) EndedAt: 2024-06-27 07:51:27 -0400 (Thu, 27 Jun 2024) EllapsedTime: 42.3 seconds RetCode: 0 Status: OK PackageFile: AUCell_1.26.0.zip PackageFileSize: 1.328 MiB